BEGIN:VCALENDAR
VERSION:2.0
PRODID:Imitheme.com 
BEGIN:VEVENT
UID:20260419T1248041527287390
DTSTAMP;TZID=UTC:2026-04-19 12:48:04
DTSTART;TZID=America/Los_Angeles:20260311T000000
DTEND;TZID=America/Los_Angeles:20260311T000000
SUMMARY:Félagsvist í Gjábakka
LOCATION:
DESCRIPTION:Félagsvist er spiluð í Gjábakka allar miðvikudaga kl. 13:00. Umsjón Eyrún.
URL:https://febk.is/eventer/felagsvist-i-gjabakka/
END:VEVENT
END:VCALENDAR
