BEGIN:VCALENDAR
VERSION:2.0
PRODID:Imitheme.com 
BEGIN:VEVENT
UID:20260421T094754257147940
DTSTAMP;TZID=UTC:2026-04-21 09:47:54
DTSTART;TZID=America/Los_Angeles:20260316T000000
DTEND;TZID=America/Los_Angeles:20260316T000000
SUMMARY:Canasta í Gjábakka
LOCATION:
DESCRIPTION:Canasta spila í Gjábakka alla mánudaga kl. 13:15. Umsjón Soffía.
URL:https://febk.is/eventer/canasta-i-gjabakka-2/
END:VEVENT
END:VCALENDAR
