BEGIN:VCALENDAR
VERSION:2.0
PRODID:Imitheme.com 
BEGIN:VEVENT
UID:20260421T0821021704471825
DTSTAMP;TZID=UTC:2026-04-21 08:21:02
DTSTART;TZID=America/Los_Angeles:20260307T000000
DTEND;TZID=America/Los_Angeles:20260307T000000
SUMMARY:Ljósmyndasýning í Gullsmára
LOCATION:
DESCRIPTION:
URL:https://febk.is/eventer/ljosmyndasyning-i-gullsmara/
END:VEVENT
END:VCALENDAR
