BEGIN:VCALENDAR
VERSION:2.0
PRODID:Imitheme.com 
BEGIN:VEVENT
UID:20260421T0819102055483860
DTSTAMP;TZID=UTC:2026-04-21 08:19:10
DTSTART;TZID=America/Los_Angeles:20260306T000000
DTEND;TZID=America/Los_Angeles:20260306T000000
SUMMARY:Félagsvist í Gjábakka kl. 20:00
LOCATION:
DESCRIPTION:
URL:https://febk.is/?post_type=eventer&p=6017
END:VEVENT
END:VCALENDAR
