BEGIN:VCALENDAR
VERSION:2.0
PRODID:Imitheme.com 
BEGIN:VEVENT
UID:20260421T0821531440112092
DTSTAMP;TZID=UTC:2026-04-21 08:21:53
DTSTART;TZID=America/Los_Angeles:20260304T000000
DTEND;TZID=America/Los_Angeles:20260304T000000
SUMMARY:Tómas Helgi skemmtir í Boðanum
LOCATION:
DESCRIPTION:
URL:https://febk.is/eventer/tomas-helgi-skemmtir-i-bodanum/
END:VEVENT
END:VCALENDAR
