BEGIN:VCALENDAR
VERSION:2.0
PRODID:Imitheme.com 
BEGIN:VEVENT
UID:20260421T094246852543501
DTSTAMP;TZID=UTC:2026-04-21 09:42:46
DTSTART;TZID=America/Los_Angeles:20260421T000000
DTEND;TZID=America/Los_Angeles:20260421T000000
SUMMARY:Söngsveitin 12 í takt skemmtir í Boðanum
LOCATION:
DESCRIPTION:
URL:https://febk.is/eventer/songsveitin-12-i-takt-skemmtir-i-bodanum/
END:VEVENT
END:VCALENDAR
