BEGIN:VCALENDAR
VERSION:2.0
PRODID:Imitheme.com 
BEGIN:VEVENT
UID:20260421T094819855363744
DTSTAMP;TZID=UTC:2026-04-21 09:48:19
DTSTART;TZID=America/Los_Angeles:20260421T000000
DTEND;TZID=America/Los_Angeles:20260421T000000
SUMMARY:Tómas Helgi skemmtir í Boðanum
LOCATION:
DESCRIPTION:
URL:https://febk.is/eventer/tomas-helgi-skemmtir-i-bodanum/
END:VEVENT
END:VCALENDAR
