BEGIN:VCALENDAR
VERSION:2.0
PRODID:Imitheme.com 
BEGIN:VEVENT
UID:20260421T111240976260573
DTSTAMP;TZID=UTC:2026-04-21 11:12:40
DTSTART;TZID=America/Los_Angeles:20260421T000000
DTEND;TZID=America/Los_Angeles:20260421T000000
SUMMARY:Laugardagsopnun í Gullsmára 12-14
LOCATION:
DESCRIPTION:
URL:https://febk.is/eventer/laugardagsopnun-i-gullsmara-12-14/
END:VEVENT
END:VCALENDAR
