BEGIN:VCALENDAR
VERSION:2.0
PRODID:Imitheme.com 
BEGIN:VEVENT
UID:20260419T155643913519026
DTSTAMP;TZID=UTC:2026-04-19 15:56:43
DTSTART;TZID=America/Los_Angeles:20260419T000000
DTEND;TZID=America/Los_Angeles:20260419T000000
SUMMARY:Aðalfundur FEBK í Gullsmára
LOCATION:
DESCRIPTION:Aðalfundur FEBK verður haldinn í félagsmiðstöðinni Gullsmára 13 þriðjudaginn 24. mars kl. 16:00. Dagskrá: - Venjuleg aðalfundarstörf - Önnur mál - Kynning á ferðaáætlun 2026 Stjórn FEBK
URL:https://febk.is/eventer/adalfundur-febk-i-gullsmara/
END:VEVENT
END:VCALENDAR
