BEGIN:VCALENDAR
VERSION:2.0
PRODID:Imitheme.com 
BEGIN:VEVENT
UID:20260421T0819121037186598
DTSTAMP;TZID=UTC:2026-04-21 08:19:12
DTSTART;TZID=America/Los_Angeles:20260417T000000
DTEND;TZID=America/Los_Angeles:20260417T000000
SUMMARY:Canasta í Gjábakka
LOCATION:
DESCRIPTION:Canasta spila í Gjábakka alla mánudaga kl. 13:15. Umsjón Soffía.
URL:https://febk.is/eventer/canasta-i-gjabakka-2/
END:VEVENT
END:VCALENDAR
