BEGIN:VCALENDAR
VERSION:2.0
PRODID:Imitheme.com 
BEGIN:VEVENT
UID:20260421T0823161828673658
DTSTAMP;TZID=UTC:2026-04-21 08:23:16
DTSTART;TZID=America/Los_Angeles:20251205T000000
DTEND;TZID=America/Los_Angeles:20251205T000000
SUMMARY:Söngstund með Badda í Gjábakka
LOCATION:
DESCRIPTION:
URL:https://febk.is/eventer/songstund-med-badda-i-gjabakka-9/
END:VEVENT
END:VCALENDAR
