BEGIN:VCALENDAR
VERSION:2.0
PRODID:Imitheme.com 
BEGIN:VEVENT
UID:20260421T0819362071052481
DTSTAMP;TZID=UTC:2026-04-21 08:19:36
DTSTART;TZID=America/Los_Angeles:20251117T000000
DTEND;TZID=America/Los_Angeles:20251117T000000
SUMMARY:Bingó í Boðanum
LOCATION:
DESCRIPTION:
URL:https://febk.is/eventer/bingo-i-bodanum-9/
END:VEVENT
END:VCALENDAR
