BEGIN:VCALENDAR
VERSION:2.0
PRODID:Imitheme.com 
BEGIN:VEVENT
UID:20260421T0822361546305097
DTSTAMP;TZID=UTC:2026-04-21 08:22:36
DTSTART;TZID=America/Los_Angeles:20251022T000000
DTEND;TZID=America/Los_Angeles:20251022T000000
SUMMARY:Kvennabridge í Gullsmára
LOCATION:
DESCRIPTION:Kvennabridge í Gullsmárra á miðvikudögum kl. 13:00.
URL:https://febk.is/eventer/kvennabridge-i-gullsmara/
END:VEVENT
END:VCALENDAR
