BEGIN:VCALENDAR
VERSION:2.0
PRODID:Imitheme.com 
BEGIN:VEVENT
UID:20260422T090811323791060
DTSTAMP;TZID=UTC:2026-04-22 09:08:11
DTSTART;TZID=America/Los_Angeles:20251025T000000
DTEND;TZID=America/Los_Angeles:20251025T000000
SUMMARY:Opið í Gjábakka
LOCATION:
DESCRIPTION:
URL:https://febk.is/eventer/opid-i-gjabakka-2/
END:VEVENT
END:VCALENDAR
