BEGIN:VCALENDAR
VERSION:2.0
PRODID:Imitheme.com 
BEGIN:VEVENT
UID:20260421T0822301175749914
DTSTAMP;TZID=UTC:2026-04-21 08:22:30
DTSTART;TZID=America/Los_Angeles:20251024T000000
DTEND;TZID=America/Los_Angeles:20251024T000000
SUMMARY:Félagsvist í Gjábakka #2
LOCATION:
DESCRIPTION:Félagsvist FEBKí Gjábakka á föstudögum kl. 20:00.
URL:https://febk.is/eventer/felagsvist-i-gjabakka-2-2/
END:VEVENT
END:VCALENDAR
