BEGIN:VCALENDAR
VERSION:2.0
PRODID:Imitheme.com 
BEGIN:VEVENT
UID:20260421T0820461954941040
DTSTAMP;TZID=UTC:2026-04-21 08:20:46
DTSTART;TZID=America/Los_Angeles:20251024T000000
DTEND;TZID=America/Los_Angeles:20251024T000000
SUMMARY:Vetrarfagnaður í Gullsmára 24. okt. Húsið opnað kl. 20:00.
LOCATION:
DESCRIPTION:
URL:https://febk.is/eventer/vetrarfagnadur-i-gullsmara-24-okt-husid-opnad-kl-2000/
END:VEVENT
END:VCALENDAR
