BEGIN:VCALENDAR
VERSION:2.0
PRODID:Imitheme.com 
BEGIN:VEVENT
UID:20260421T0823141082816116
DTSTAMP;TZID=UTC:2026-04-21 08:23:14
DTSTART;TZID=America/Los_Angeles:20250308T000000
DTEND;TZID=America/Los_Angeles:20250308T000000
SUMMARY:Laugardagsopnun í Gullsmára 8. mars
LOCATION:
DESCRIPTION:
URL:https://febk.is/eventer/laugardagsopnun-i-gullsmara-8-mars/
END:VEVENT
END:VCALENDAR
