BEGIN:VCALENDAR
VERSION:2.0
PRODID:Imitheme.com 
BEGIN:VEVENT
UID:20260421T0821111787687437
DTSTAMP;TZID=UTC:2026-04-21 08:21:11
DTSTART;TZID=America/Los_Angeles:20250730T000000
DTEND;TZID=America/Los_Angeles:20250730T000000
SUMMARY:Þjóðhátíðarstemning í Boðanum miðvikudaginn 30. júlí kl. 13:30
LOCATION:
DESCRIPTION:
URL:https://febk.is/eventer/thjodhatidarstemning-i-bodanum-midvikudaginn-30-juli-kl-1330/
END:VEVENT
END:VCALENDAR
