BEGIN:VCALENDAR
VERSION:2.0
PRODID:Imitheme.com 
BEGIN:VEVENT
UID:20260421T082213331903683
DTSTAMP;TZID=UTC:2026-04-21 08:22:13
DTSTART;TZID=America/Los_Angeles:20250619T000000
DTEND;TZID=America/Los_Angeles:20250619T000000
SUMMARY:Píanótónleikar í Boðanum
LOCATION:
DESCRIPTION:Ferðasögur frá Georgíu. Píanótónleikar og frásögn. Ólína Ákadóttir heldur tónleika í Boðanum og segir ferðasögur í máli og myndum fimmtudaginn 19. júní kl. 13:30.
URL:https://febk.is/eventer/pianotonleikar-i-bodanum/
END:VEVENT
END:VCALENDAR
