BEGIN:VCALENDAR
VERSION:2.0
PRODID:Imitheme.com 
BEGIN:VEVENT
UID:20260421T082316996318511
DTSTAMP;TZID=UTC:2026-04-21 08:23:16
DTSTART;TZID=America/Los_Angeles:20250511T000000
DTEND;TZID=America/Los_Angeles:20250511T000000
SUMMARY:Myndlistarklúbbur Boðans - Myndlistasýning
LOCATION:
DESCRIPTION:
URL:https://febk.is/eventer/myndlistarklubbur-bodans-myndlistasyning/
END:VEVENT
END:VCALENDAR
