BEGIN:VCALENDAR
VERSION:2.0
PRODID:Imitheme.com 
BEGIN:VEVENT
UID:20260421T0823152030142717
DTSTAMP;TZID=UTC:2026-04-21 08:23:15
DTSTART;TZID=America/Los_Angeles:20241223T000000
DTEND;TZID=America/Los_Angeles:20241223T000000
SUMMARY:Þorláksmessuskata í Gjábakka
LOCATION:
DESCRIPTION:Skráning er hafin í Þorláksmessuskötu sem verður í boði í Gjábakka, mánudaginn 23. des. Einnig verður hægt að panta saltfisk, í staðinn fyrir skötuna, fyrir þau sem það vilja. Skráning og miðasala fer fram v/afgreiðsluna í kaffiteríunni. Verð kr. 3.700. Athugið að venjulegur matseðill gildir ekki þennan dag Kveðja, starfsfólkið.
URL:https://febk.is/eventer/thorlaksmessuskata-i-gjabakka/
END:VEVENT
END:VCALENDAR
