BEGIN:VCALENDAR
VERSION:2.0
PRODID:Imitheme.com 
BEGIN:VEVENT
UID:20260421T082229724168114
DTSTAMP;TZID=UTC:2026-04-21 08:22:29
DTSTART;TZID=America/Los_Angeles:20240305T000000
DTEND;TZID=America/Los_Angeles:20240305T000000
SUMMARY:Aðalfundur FEBK 5. mars kl. 16:00
LOCATION:
DESCRIPTION:Aðalfundur Aðalfundur Félags eldri borgara í Kópavogi verður haldinn í félagsmiðstöðinni Gullsmára 9 þriðjudaginn 5. mars 2024 kl. 16:00. Dagskrá: - Venjuleg aðalfundarstörf - Önnur mál - Kynning á ferðaáætlun 2024 Reikningar félagsins liggja frammi á skrifstofu FEBK Gullsmára 9 viku fyrir aðalfund. Stjórn FEBK
URL:https://febk.is/eventer/adalfundur-febk-5-mars-kl-1600/
END:VEVENT
END:VCALENDAR
